BEGIN:VCALENDAR
VERSION:2.0
PRODID:-//ChamberMaster//Event Calendar 2.0//EN
METHOD:PUBLISH
X-PUBLISHED-TTL:P3D
REFRESH-INTERVAL:P3D
CALSCALE:GREGORIAN
BEGIN:VEVENT
DTSTART:20101014T123000Z
DTEND:20101014T140000Z
X-MICROSOFT-CDO-ALLDAYEVENT:FALSE
SUMMARY:Xcel Energy Breakfast at Edina Country Club
DESCRIPTION:
X-ALT-DESC;FMTTYPE=text/html:
LOCATION:
UID:e.1654.381466
SEQUENCE:3
DTSTAMP:20260420T055522Z
URL:http://edinachamber.sampleorg.com/events/details/xcel-energy-breakfast-at-edina-country-club-10-14-2010-381466
END:VEVENT

END:VCALENDAR
