BEGIN:VCALENDAR
VERSION:2.0
PRODID:-//ChamberMaster//Event Calendar 2.0//EN
METHOD:PUBLISH
X-PUBLISHED-TTL:P3D
REFRESH-INTERVAL:P3D
CALSCALE:GREGORIAN
BEGIN:VEVENT
DTSTART:20090918T164500Z
DTEND:20090918T180000Z
X-MICROSOFT-CDO-ALLDAYEVENT:FALSE
SUMMARY:WISE--September at Maggiano's
DESCRIPTION:
X-ALT-DESC;FMTTYPE=text/html:
LOCATION:
UID:e.1654.352230
SEQUENCE:3
DTSTAMP:20260421T073836Z
URL:http://edinachamber.sampleorg.com/events/details/wise-september-at-maggiano-s-09-18-2009-352230
END:VEVENT

END:VCALENDAR
