BEGIN:VCALENDAR
VERSION:2.0
PRODID:-//ChamberMaster//Event Calendar 2.0//EN
METHOD:PUBLISH
X-PUBLISHED-TTL:P3D
REFRESH-INTERVAL:P3D
CALSCALE:GREGORIAN
BEGIN:VEVENT
DTSTART:20090612T164500Z
DTEND:20090612T180000Z
X-MICROSOFT-CDO-ALLDAYEVENT:FALSE
SUMMARY:WISE--June at Kozy's
DESCRIPTION:Cathy Wurzer from MPR is the guest speaker
X-ALT-DESC;FMTTYPE=text/html:Cathy Wurzer from MPR is the guest speaker
LOCATION:Kozy's Steaks and Seafood
UID:e.1654.345326
SEQUENCE:3
DTSTAMP:20260421T104242Z
URL:http://edinachamber.sampleorg.com/events/details/wise-june-at-kozy-s-06-12-2009-345326
END:VEVENT

END:VCALENDAR
