BEGIN:VCALENDAR
VERSION:2.0
PRODID:-//ChamberMaster//Event Calendar 2.0//EN
METHOD:PUBLISH
X-PUBLISHED-TTL:P3D
REFRESH-INTERVAL:P3D
CALSCALE:GREGORIAN
BEGIN:VEVENT
DTSTART:20091211T174500Z
DTEND:20091211T190000Z
X-MICROSOFT-CDO-ALLDAYEVENT:FALSE
SUMMARY:WISE December at Sofitel
DESCRIPTION:
X-ALT-DESC;FMTTYPE=text/html:
LOCATION:
UID:e.1654.360782
SEQUENCE:3
DTSTAMP:20260420T235009Z
URL:http://edinachamber.sampleorg.com/events/details/wise-december-at-sofitel-12-11-2009-360782
END:VEVENT

END:VCALENDAR
