BEGIN:VCALENDAR
VERSION:2.0
PRODID:-//ChamberMaster//Event Calendar 2.0//EN
METHOD:PUBLISH
X-PUBLISHED-TTL:P3D
REFRESH-INTERVAL:P3D
CALSCALE:GREGORIAN
BEGIN:VEVENT
DTSTART:20091105T174500Z
DTEND:20091105T190000Z
X-MICROSOFT-CDO-ALLDAYEVENT:FALSE
SUMMARY:Special Engagement with Gov. Pawlenty
DESCRIPTION:
X-ALT-DESC;FMTTYPE=text/html:
LOCATION:Interlachen Country Club
UID:e.1654.356886
SEQUENCE:3
DTSTAMP:20260421T025008Z
URL:http://edinachamber.sampleorg.com/events/details/special-engagement-with-gov-pawlenty-11-05-2009-356886
END:VEVENT

END:VCALENDAR
