BEGIN:VCALENDAR
VERSION:2.0
PRODID:-//ChamberMaster//Event Calendar 2.0//EN
METHOD:PUBLISH
X-PUBLISHED-TTL:P3D
REFRESH-INTERVAL:P3D
CALSCALE:GREGORIAN
BEGIN:VEVENT
DTSTART:20090812T223000Z
DTEND:20090813T000000Z
X-MICROSOFT-CDO-ALLDAYEVENT:FALSE
SUMMARY:PGA Event at Galleria
DESCRIPTION:
X-ALT-DESC;FMTTYPE=text/html:
LOCATION:
UID:e.1654.350786
SEQUENCE:3
DTSTAMP:20260421T090108Z
URL:http://edinachamber.sampleorg.com/events/details/pga-event-at-galleria-08-12-2009-350786
END:VEVENT

END:VCALENDAR
