BEGIN:VCALENDAR
VERSION:2.0
PRODID:-//ChamberMaster//Event Calendar 2.0//EN
METHOD:PUBLISH
X-PUBLISHED-TTL:P3D
REFRESH-INTERVAL:P3D
CALSCALE:GREGORIAN
BEGIN:VEVENT
DTSTART:20101118T173000Z
DTEND:20101118T190000Z
X-MICROSOFT-CDO-ALLDAYEVENT:FALSE
SUMMARY:November Emerging Leaders
DESCRIPTION:
X-ALT-DESC;FMTTYPE=text/html:
LOCATION:
UID:e.1654.383774
SEQUENCE:3
DTSTAMP:20260420T055125Z
URL:http://edinachamber.sampleorg.com/events/details/november-emerging-leaders-11-18-2010-383774
END:VEVENT

END:VCALENDAR
