BEGIN:VCALENDAR
VERSION:2.0
PRODID:-//ChamberMaster//Event Calendar 2.0//EN
METHOD:PUBLISH
X-PUBLISHED-TTL:P3D
REFRESH-INTERVAL:P3D
CALSCALE:GREGORIAN
BEGIN:VEVENT
DTSTART:20090915T124500Z
DTEND:20090915T140000Z
X-MICROSOFT-CDO-ALLDAYEVENT:FALSE
SUMMARY:New Member Orientation - September
DESCRIPTION:
X-ALT-DESC;FMTTYPE=text/html:
LOCATION:4620 W. 77th Street Conference Room
UID:e.1654.353513
SEQUENCE:3
DTSTAMP:20260421T055451Z
URL:http://edinachamber.sampleorg.com/events/details/new-member-orientation-september-09-15-2009-353513
END:VEVENT

END:VCALENDAR
