BEGIN:VCALENDAR
VERSION:2.0
PRODID:-//ChamberMaster//Event Calendar 2.0//EN
METHOD:PUBLISH
X-PUBLISHED-TTL:P3D
REFRESH-INTERVAL:P3D
CALSCALE:GREGORIAN
BEGIN:VEVENT
DTSTART:20090113T134500Z
DTEND:20090114T030000Z
X-MICROSOFT-CDO-ALLDAYEVENT:FALSE
SUMMARY:New Member Orientation
DESCRIPTION:
X-ALT-DESC;FMTTYPE=text/html:
LOCATION:4940 Viking Drive Edina\, Minnesota\,55435
UID:e.1654.333042
SEQUENCE:3
DTSTAMP:20260421T224956Z
URL:http://edinachamber.sampleorg.com/events/details/new-member-orientation-01-13-2009-333042
END:VEVENT

END:VCALENDAR
