BEGIN:VCALENDAR
VERSION:2.0
PRODID:-//ChamberMaster//Event Calendar 2.0//EN
METHOD:PUBLISH
X-PUBLISHED-TTL:P3D
REFRESH-INTERVAL:P3D
CALSCALE:GREGORIAN
BEGIN:VEVENT
DTSTART:20110525T163000Z
DTEND:20110525T180000Z
X-MICROSOFT-CDO-ALLDAYEVENT:FALSE
SUMMARY:May Annual Meeting at Interlachen CC
DESCRIPTION:
X-ALT-DESC;FMTTYPE=text/html:
LOCATION:
UID:e.1654.394181
SEQUENCE:3
DTSTAMP:20260421T084548Z
URL:http://edinachamber.sampleorg.com/events/details/may-annual-meeting-at-interlachen-cc-05-25-2011-394181
END:VEVENT

END:VCALENDAR
