BEGIN:VCALENDAR
VERSION:2.0
PRODID:-//ChamberMaster//Event Calendar 2.0//EN
METHOD:PUBLISH
X-PUBLISHED-TTL:P3D
REFRESH-INTERVAL:P3D
CALSCALE:GREGORIAN
BEGIN:VEVENT
DTSTART:20090325T163000Z
DTEND:20090325T180000Z
X-MICROSOFT-CDO-ALLDAYEVENT:FALSE
SUMMARY:March GMM\, Edina Country Club\, speaker Michael Belot PGA
DESCRIPTION:
X-ALT-DESC;FMTTYPE=text/html:
LOCATION:
UID:e.1654.339361
SEQUENCE:3
DTSTAMP:20260421T212119Z
URL:http://edinachamber.sampleorg.com/events/details/march-gmm-edina-country-club-speaker-michael-belot-pga-03-25-2009-339361
END:VEVENT

END:VCALENDAR
