BEGIN:VCALENDAR
VERSION:2.0
PRODID:-//ChamberMaster//Event Calendar 2.0//EN
METHOD:PUBLISH
X-PUBLISHED-TTL:P3D
REFRESH-INTERVAL:P3D
CALSCALE:GREGORIAN
BEGIN:VEVENT
DTSTART:20110330T163000Z
DTEND:20110330T180000Z
X-MICROSOFT-CDO-ALLDAYEVENT:FALSE
SUMMARY:March GMM at Edina Country Club with BEER
DESCRIPTION:
X-ALT-DESC;FMTTYPE=text/html:
LOCATION:
UID:e.1654.391307
SEQUENCE:3
DTSTAMP:20260419T190950Z
URL:http://edinachamber.sampleorg.com/events/details/march-gmm-at-edina-country-club-with-beer-03-30-2011-391307
END:VEVENT

END:VCALENDAR
