BEGIN:VCALENDAR
VERSION:2.0
PRODID:-//ChamberMaster//Event Calendar 2.0//EN
METHOD:PUBLISH
X-PUBLISHED-TTL:P3D
REFRESH-INTERVAL:P3D
CALSCALE:GREGORIAN
BEGIN:VEVENT
DTSTART:20100331T163000Z
DTEND:20100331T180000Z
X-MICROSOFT-CDO-ALLDAYEVENT:FALSE
SUMMARY:March GMM at Edina Country Club
DESCRIPTION:
X-ALT-DESC;FMTTYPE=text/html:
LOCATION:
UID:e.1654.367960
SEQUENCE:3
DTSTAMP:20260420T204646Z
URL:http://edinachamber.sampleorg.com/events/details/march-gmm-at-edina-country-club-03-31-2010-367960
END:VEVENT

END:VCALENDAR
