BEGIN:VCALENDAR
VERSION:2.0
PRODID:-//ChamberMaster//Event Calendar 2.0//EN
METHOD:PUBLISH
X-PUBLISHED-TTL:P3D
REFRESH-INTERVAL:P3D
CALSCALE:GREGORIAN
BEGIN:VEVENT
DTSTART:20100305T133000Z
DTEND:20100305T150000Z
X-MICROSOFT-CDO-ALLDAYEVENT:FALSE
SUMMARY:March At Your Business Break - M&I Bank
DESCRIPTION:
X-ALT-DESC;FMTTYPE=text/html:
LOCATION:
UID:e.1654.367957
SEQUENCE:3
DTSTAMP:20260420T204646Z
URL:http://edinachamber.sampleorg.com/events/details/march-at-your-business-break-m-i-bank-03-05-2010-367957
END:VEVENT

END:VCALENDAR
