BEGIN:VCALENDAR
VERSION:2.0
PRODID:-//ChamberMaster//Event Calendar 2.0//EN
METHOD:PUBLISH
X-PUBLISHED-TTL:P3D
REFRESH-INTERVAL:P3D
CALSCALE:GREGORIAN
BEGIN:VEVENT
DTSTART:20100608T123000Z
DTEND:20100608T140000Z
X-MICROSOFT-CDO-ALLDAYEVENT:FALSE
SUMMARY:June New Member Orientation at Farmers Insurance
DESCRIPTION:
X-ALT-DESC;FMTTYPE=text/html:
LOCATION:
UID:e.1654.374544
SEQUENCE:3
DTSTAMP:20260420T113722Z
URL:http://edinachamber.sampleorg.com/events/details/june-new-member-orientation-at-farmers-insurance-06-08-2010-374544
END:VEVENT

END:VCALENDAR
