BEGIN:VCALENDAR
VERSION:2.0
PRODID:-//ChamberMaster//Event Calendar 2.0//EN
METHOD:PUBLISH
X-PUBLISHED-TTL:P3D
REFRESH-INTERVAL:P3D
CALSCALE:GREGORIAN
BEGIN:VEVENT
DTSTART:20110616T164500Z
DTEND:20110616T180000Z
X-MICROSOFT-CDO-ALLDAYEVENT:FALSE
SUMMARY:June Emerging Leaders--Golf Only
DESCRIPTION:
X-ALT-DESC;FMTTYPE=text/html:
LOCATION:
UID:e.1654.398109
SEQUENCE:3
DTSTAMP:20260419T130915Z
URL:http://edinachamber.sampleorg.com/events/details/june-emerging-leaders-golf-only-06-16-2011-398109
END:VEVENT

END:VCALENDAR
