BEGIN:VCALENDAR
VERSION:2.0
PRODID:-//ChamberMaster//Event Calendar 2.0//EN
METHOD:PUBLISH
X-PUBLISHED-TTL:P3D
REFRESH-INTERVAL:P3D
CALSCALE:GREGORIAN
BEGIN:VEVENT
DTSTART:20090116T174500Z
DTEND:20090116T190000Z
X-MICROSOFT-CDO-ALLDAYEVENT:FALSE
SUMMARY:January WISE - PF Changs
DESCRIPTION:
X-ALT-DESC;FMTTYPE=text/html:
LOCATION:
UID:e.1654.332305
SEQUENCE:3
DTSTAMP:20260421T224926Z
URL:http://edinachamber.sampleorg.com/events/details/january-wise-pf-changs-01-16-2009-332305
END:VEVENT

END:VCALENDAR
