BEGIN:VCALENDAR
VERSION:2.0
PRODID:-//ChamberMaster//Event Calendar 2.0//EN
METHOD:PUBLISH
X-PUBLISHED-TTL:P3D
REFRESH-INTERVAL:P3D
CALSCALE:GREGORIAN
BEGIN:VEVENT
DTSTART:20100115T174500Z
DTEND:20100115T190000Z
X-MICROSOFT-CDO-ALLDAYEVENT:FALSE
SUMMARY:January WISE
DESCRIPTION:
X-ALT-DESC;FMTTYPE=text/html:
LOCATION:Crowne Plaza
UID:e.1654.363026
SEQUENCE:3
DTSTAMP:20260420T232804Z
URL:http://edinachamber.sampleorg.com/events/details/january-wise-01-15-2010-363026
END:VEVENT

END:VCALENDAR
