BEGIN:VCALENDAR
VERSION:2.0
PRODID:-//ChamberMaster//Event Calendar 2.0//EN
METHOD:PUBLISH
X-PUBLISHED-TTL:P3D
REFRESH-INTERVAL:P3D
CALSCALE:GREGORIAN
BEGIN:VEVENT
DTSTART:20110126T173000Z
DTEND:20110126T190000Z
X-MICROSOFT-CDO-ALLDAYEVENT:FALSE
SUMMARY:January GMM at Interlachen CC
DESCRIPTION:
X-ALT-DESC;FMTTYPE=text/html:
LOCATION:
UID:e.1654.387527
SEQUENCE:3
DTSTAMP:20260420T005659Z
URL:http://edinachamber.sampleorg.com/events/details/january-gmm-at-interlachen-cc-01-26-2011-387527
END:VEVENT

END:VCALENDAR
