BEGIN:VCALENDAR
VERSION:2.0
PRODID:-//ChamberMaster//Event Calendar 2.0//EN
METHOD:PUBLISH
X-PUBLISHED-TTL:P3D
REFRESH-INTERVAL:P3D
CALSCALE:GREGORIAN
BEGIN:VEVENT
DTSTART:20110107T133000Z
DTEND:20110107T150000Z
X-MICROSOFT-CDO-ALLDAYEVENT:FALSE
SUMMARY:January AYBB at Venture Photography
DESCRIPTION:
X-ALT-DESC;FMTTYPE=text/html:
LOCATION:
UID:e.1654.387517
SEQUENCE:3
DTSTAMP:20260420T010123Z
URL:http://edinachamber.sampleorg.com/events/details/january-aybb-at-venture-photography-01-07-2011-387517
END:VEVENT

END:VCALENDAR
