BEGIN:VCALENDAR
VERSION:2.0
PRODID:-//ChamberMaster//Event Calendar 2.0//EN
METHOD:PUBLISH
X-PUBLISHED-TTL:P3D
REFRESH-INTERVAL:P3D
CALSCALE:GREGORIAN
BEGIN:VEVENT
DTSTART:20100108T133000Z
DTEND:20100108T150000Z
X-MICROSOFT-CDO-ALLDAYEVENT:FALSE
SUMMARY:January At Your Business Break
DESCRIPTION:
X-ALT-DESC;FMTTYPE=text/html:
LOCATION:Chiropractic Health and Wellness
UID:e.1654.363024
SEQUENCE:3
DTSTAMP:20260420T222326Z
URL:http://edinachamber.sampleorg.com/events/details/january-at-your-business-break-01-08-2010-363024
END:VEVENT

END:VCALENDAR
