BEGIN:VCALENDAR
VERSION:2.0
PRODID:-//ChamberMaster//Event Calendar 2.0//EN
METHOD:PUBLISH
X-PUBLISHED-TTL:P3D
REFRESH-INTERVAL:P3D
CALSCALE:GREGORIAN
BEGIN:VEVENT
DTSTART;VALUE=DATE:20100726
DTEND;VALUE=DATE:20100727
TRANSP:TRANSPARENT
X-MICROSOFT-CDO-ALLDAYEVENT:TRUE
SUMMARY:Gordon Hughes City Retirement Party Chamber List
DESCRIPTION:
X-ALT-DESC;FMTTYPE=text/html:
LOCATION:
UID:e.1654.375027
SEQUENCE:3
DTSTAMP:20260420T102802Z
URL:http://edinachamber.sampleorg.com/events/details/gordon-hughes-city-retirement-party-chamber-list-07-26-2010-375027
END:VEVENT

END:VCALENDAR
