BEGIN:VCALENDAR
VERSION:2.0
PRODID:-//ChamberMaster//Event Calendar 2.0//EN
METHOD:PUBLISH
X-PUBLISHED-TTL:P3D
REFRESH-INTERVAL:P3D
CALSCALE:GREGORIAN
BEGIN:VEVENT
DTSTART;VALUE=DATE:20050928
DTEND;VALUE=DATE:20050929
TRANSP:TRANSPARENT
X-MICROSOFT-CDO-ALLDAYEVENT:TRUE
SUMMARY:GMM September 06
DESCRIPTION:CWK
X-ALT-DESC;FMTTYPE=text/html:CWK
LOCATION:Interlachen
UID:e.1654.268131
SEQUENCE:3
DTSTAMP:20260425T012323Z
URL:http://edinachamber.sampleorg.com/events/details/gmm-september-06-09-28-2005-268131
END:VEVENT

END:VCALENDAR
