BEGIN:VCALENDAR
VERSION:2.0
PRODID:-//ChamberMaster//Event Calendar 2.0//EN
METHOD:PUBLISH
X-PUBLISHED-TTL:P3D
REFRESH-INTERVAL:P3D
CALSCALE:GREGORIAN
BEGIN:VEVENT
DTSTART:20090422T160000Z
DTEND:20090422T180000Z
X-MICROSOFT-CDO-ALLDAYEVENT:FALSE
SUMMARY:GMM April 2009
DESCRIPTION:
X-ALT-DESC;FMTTYPE=text/html:
LOCATION:Interlachen Country Club
UID:e.1654.341781
SEQUENCE:3
DTSTAMP:20260421T184217Z
URL:http://edinachamber.sampleorg.com/events/details/gmm-april-2009-04-22-2009-341781
END:VEVENT

END:VCALENDAR
