BEGIN:VCALENDAR
VERSION:2.0
PRODID:-//ChamberMaster//Event Calendar 2.0//EN
METHOD:PUBLISH
X-PUBLISHED-TTL:P3D
REFRESH-INTERVAL:P3D
CALSCALE:GREGORIAN
BEGIN:VEVENT
DTSTART:20110217T103000Z
DTEND:20110218T003000Z
X-MICROSOFT-CDO-ALLDAYEVENT:FALSE
SUMMARY:February After Hours at Edina Country Club Canceled
DESCRIPTION:
X-ALT-DESC;FMTTYPE=text/html:
LOCATION:
UID:e.1654.390124
SEQUENCE:3
DTSTAMP:20260419T201559Z
URL:http://edinachamber.sampleorg.com/events/details/february-after-hours-at-edina-country-club-canceled-02-17-2011-390124
END:VEVENT

END:VCALENDAR
