BEGIN:VCALENDAR
VERSION:2.0
PRODID:-//ChamberMaster//Event Calendar 2.0//EN
METHOD:PUBLISH
X-PUBLISHED-TTL:P3D
REFRESH-INTERVAL:P3D
CALSCALE:GREGORIAN
BEGIN:VEVENT
DTSTART:20100218T223000Z
DTEND:20100219T000000Z
X-MICROSOFT-CDO-ALLDAYEVENT:FALSE
SUMMARY:February After Hours
DESCRIPTION:
X-ALT-DESC;FMTTYPE=text/html:
LOCATION:
UID:e.1654.365770
SEQUENCE:3
DTSTAMP:20260420T204945Z
URL:http://edinachamber.sampleorg.com/events/details/february-after-hours-02-18-2010-365770
END:VEVENT

END:VCALENDAR
