BEGIN:VCALENDAR
VERSION:2.0
PRODID:-//ChamberMaster//Event Calendar 2.0//EN
METHOD:PUBLISH
X-PUBLISHED-TTL:P3D
REFRESH-INTERVAL:P3D
CALSCALE:GREGORIAN
BEGIN:VEVENT
DTSTART:20110419T123000Z
DTEND:20110419T133000Z
X-MICROSOFT-CDO-ALLDAYEVENT:FALSE
SUMMARY:Economic Redevelopment Committee Breakfast
DESCRIPTION:
X-ALT-DESC;FMTTYPE=text/html:
LOCATION:
UID:e.1654.395224
SEQUENCE:3
DTSTAMP:20260419T144452Z
URL:http://edinachamber.sampleorg.com/events/details/economic-redevelopment-committee-breakfast-04-19-2011-395224
END:VEVENT

END:VCALENDAR
