BEGIN:VCALENDAR
VERSION:2.0
PRODID:-//ChamberMaster//Event Calendar 2.0//EN
METHOD:PUBLISH
X-PUBLISHED-TTL:P3D
REFRESH-INTERVAL:P3D
CALSCALE:GREGORIAN
BEGIN:VEVENT
DTSTART:20101210T174500Z
DTEND:20101210T190000Z
X-MICROSOFT-CDO-ALLDAYEVENT:FALSE
SUMMARY:December WISE at Interlachen with EPC
DESCRIPTION:E-squared event
X-ALT-DESC;FMTTYPE=text/html:E-squared event
LOCATION:
UID:e.1654.382381
SEQUENCE:3
DTSTAMP:20260420T041024Z
URL:http://edinachamber.sampleorg.com/events/details/december-wise-at-interlachen-with-epc-12-10-2010-382381
END:VEVENT

END:VCALENDAR
