BEGIN:VCALENDAR
VERSION:2.0
PRODID:-//ChamberMaster//Event Calendar 2.0//EN
METHOD:PUBLISH
X-PUBLISHED-TTL:P3D
REFRESH-INTERVAL:P3D
CALSCALE:GREGORIAN
BEGIN:VEVENT
DTSTART:20101203T133000Z
DTEND:20101203T150000Z
X-MICROSOFT-CDO-ALLDAYEVENT:FALSE
SUMMARY:December AYBB at JNBA Financial Advisors
DESCRIPTION:
X-ALT-DESC;FMTTYPE=text/html:
LOCATION:
UID:e.1654.385581
SEQUENCE:3
DTSTAMP:20260420T023108Z
URL:http://edinachamber.sampleorg.com/events/details/december-aybb-at-jnba-financial-advisors-12-03-2010-385581
END:VEVENT

END:VCALENDAR
