BEGIN:VCALENDAR
VERSION:2.0
PRODID:-//ChamberMaster//Event Calendar 2.0//EN
METHOD:PUBLISH
X-PUBLISHED-TTL:P3D
REFRESH-INTERVAL:P3D
CALSCALE:GREGORIAN
BEGIN:VEVENT
DTSTART:20091204T133000Z
DTEND:20091204T150000Z
X-MICROSOFT-CDO-ALLDAYEVENT:FALSE
SUMMARY:AYBB December at Farmers Insurance
DESCRIPTION:
X-ALT-DESC;FMTTYPE=text/html:
LOCATION:
UID:e.1654.360781
SEQUENCE:3
DTSTAMP:20260421T010129Z
URL:http://edinachamber.sampleorg.com/events/details/aybb-december-at-farmers-insurance-12-04-2009-360781
END:VEVENT

END:VCALENDAR
