BEGIN:VCALENDAR
VERSION:2.0
PRODID:-//ChamberMaster//Event Calendar 2.0//EN
METHOD:PUBLISH
X-PUBLISHED-TTL:P3D
REFRESH-INTERVAL:P3D
CALSCALE:GREGORIAN
BEGIN:VEVENT
DTSTART:20100813T164500Z
DTEND:20100813T180000Z
X-MICROSOFT-CDO-ALLDAYEVENT:FALSE
SUMMARY:August WISE - Fairview Hosptial
DESCRIPTION:
X-ALT-DESC;FMTTYPE=text/html:
LOCATION:
UID:e.1654.377089
SEQUENCE:3
DTSTAMP:20260420T101016Z
URL:http://edinachamber.sampleorg.com/events/details/august-wise-fairview-hosptial-08-13-2010-377089
END:VEVENT

END:VCALENDAR
