BEGIN:VCALENDAR
VERSION:2.0
PRODID:-//ChamberMaster//Event Calendar 2.0//EN
METHOD:PUBLISH
X-PUBLISHED-TTL:P3D
REFRESH-INTERVAL:P3D
CALSCALE:GREGORIAN
BEGIN:VEVENT
DTSTART:20110824T163000Z
DTEND:20110824T180000Z
X-MICROSOFT-CDO-ALLDAYEVENT:FALSE
SUMMARY:August GMM at Interlachen
DESCRIPTION:
X-ALT-DESC;FMTTYPE=text/html:
LOCATION:
UID:e.1654.400755
SEQUENCE:3
DTSTAMP:20260421T084049Z
URL:http://edinachamber.sampleorg.com/events/details/august-gmm-at-interlachen-08-24-2011-400755
END:VEVENT

END:VCALENDAR
