BEGIN:VCALENDAR
VERSION:2.0
PRODID:-//ChamberMaster//Event Calendar 2.0//EN
METHOD:PUBLISH
X-PUBLISHED-TTL:P3D
REFRESH-INTERVAL:P3D
CALSCALE:GREGORIAN
BEGIN:VEVENT
DTSTART:20090904T123000Z
DTEND:20090904T140000Z
X-MICROSOFT-CDO-ALLDAYEVENT:FALSE
SUMMARY:At Your Business Break --September at Dow
DESCRIPTION:
X-ALT-DESC;FMTTYPE=text/html:
LOCATION:FilmTec Corp.
UID:e.1654.352229
SEQUENCE:3
DTSTAMP:20260421T055451Z
URL:http://edinachamber.sampleorg.com/events/details/at-your-business-break-september-at-dow-09-04-2009-352229
END:VEVENT

END:VCALENDAR
