BEGIN:VCALENDAR
VERSION:2.0
PRODID:-//ChamberMaster//Event Calendar 2.0//EN
METHOD:PUBLISH
X-PUBLISHED-TTL:P3D
REFRESH-INTERVAL:P3D
CALSCALE:GREGORIAN
BEGIN:VEVENT
DTSTART:20091106T133000Z
DTEND:20091106T150000Z
X-MICROSOFT-CDO-ALLDAYEVENT:FALSE
SUMMARY:At Your Business Break - Nov. at Friedell Architects
DESCRIPTION:
X-ALT-DESC;FMTTYPE=text/html:
LOCATION:
UID:e.1654.357527
SEQUENCE:3
DTSTAMP:20260421T011811Z
URL:http://edinachamber.sampleorg.com/events/details/at-your-business-break-nov-at-friedell-architects-11-06-2009-357527
END:VEVENT

END:VCALENDAR
