BEGIN:VCALENDAR
VERSION:2.0
PRODID:-//ChamberMaster//Event Calendar 2.0//EN
METHOD:PUBLISH
X-PUBLISHED-TTL:P3D
REFRESH-INTERVAL:P3D
CALSCALE:GREGORIAN
BEGIN:VEVENT
DTSTART:20090807T123000Z
DTEND:20090807T140000Z
X-MICROSOFT-CDO-ALLDAYEVENT:FALSE
SUMMARY:At Your Business Break--August at DQ Grill & Chill
DESCRIPTION:
X-ALT-DESC;FMTTYPE=text/html:
LOCATION:DQ Grill and Chill
UID:e.1654.349573
SEQUENCE:3
DTSTAMP:20260421T090024Z
URL:http://edinachamber.sampleorg.com/events/details/at-your-business-break-august-at-dq-grill-chill-08-07-2009-349573
END:VEVENT

END:VCALENDAR
