BEGIN:VCALENDAR
VERSION:2.0
PRODID:-//ChamberMaster//Event Calendar 2.0//EN
METHOD:PUBLISH
X-PUBLISHED-TTL:P3D
REFRESH-INTERVAL:P3D
CALSCALE:GREGORIAN
BEGIN:VEVENT
DTSTART:20090206T133000Z
DTEND:20090206T150000Z
X-MICROSOFT-CDO-ALLDAYEVENT:FALSE
SUMMARY:At Your Business Break
DESCRIPTION:
X-ALT-DESC;FMTTYPE=text/html:
LOCATION:Minnesota State
UID:e.1654.334620
SEQUENCE:3
DTSTAMP:20260421T224955Z
URL:http://edinachamber.sampleorg.com/events/details/at-your-business-break-02-06-2009-334620
END:VEVENT

END:VCALENDAR
