BEGIN:VCALENDAR
VERSION:2.0
PRODID:-//ChamberMaster//Event Calendar 2.0//EN
METHOD:PUBLISH
X-PUBLISHED-TTL:P3D
REFRESH-INTERVAL:P3D
CALSCALE:GREGORIAN
BEGIN:VEVENT
DTSTART:20110408T164500Z
DTEND:20110408T180000Z
X-MICROSOFT-CDO-ALLDAYEVENT:FALSE
SUMMARY:April WISE at P.F. Chang's
DESCRIPTION:
X-ALT-DESC;FMTTYPE=text/html:
LOCATION:
UID:e.1654.393328
SEQUENCE:3
DTSTAMP:20260419T145116Z
URL:http://edinachamber.sampleorg.com/events/details/april-wise-at-p-f-chang-s-04-08-2011-393328
END:VEVENT

END:VCALENDAR
