BEGIN:VCALENDAR
VERSION:2.0
PRODID:-//ChamberMaster//Event Calendar 2.0//EN
METHOD:PUBLISH
X-PUBLISHED-TTL:P3D
REFRESH-INTERVAL:P3D
CALSCALE:GREGORIAN
BEGIN:VEVENT
DTSTART:20090403T123000Z
DTEND:20090403T140000Z
X-MICROSOFT-CDO-ALLDAYEVENT:FALSE
SUMMARY:April At Your Business Break- Maggiano's
DESCRIPTION:
X-ALT-DESC;FMTTYPE=text/html:
LOCATION:
UID:e.1654.340728
SEQUENCE:3
DTSTAMP:20260421T184619Z
URL:http://edinachamber.sampleorg.com/events/details/april-at-your-business-break-maggiano-s-04-03-2009-340728
END:VEVENT

END:VCALENDAR
