BEGIN:VCALENDAR
VERSION:2.0
PRODID:-//ChamberMaster//Event Calendar 2.0//EN
METHOD:PUBLISH
X-PUBLISHED-TTL:P3D
REFRESH-INTERVAL:P3D
CALSCALE:GREGORIAN
BEGIN:VEVENT
DTSTART:20100409T123000Z
DTEND:20100409T140000Z
X-MICROSOFT-CDO-ALLDAYEVENT:FALSE
SUMMARY:April At Your Business Break at Edina Park Plaza
DESCRIPTION:
X-ALT-DESC;FMTTYPE=text/html:
LOCATION:
UID:e.1654.368838
SEQUENCE:3
DTSTAMP:20260420T192128Z
URL:http://edinachamber.sampleorg.com/events/details/april-at-your-business-break-at-edina-park-plaza-04-09-2010-368838
END:VEVENT

END:VCALENDAR
